BEGIN:VCALENDAR
VERSION:2.0
PRODID:-//wp-events-plugin.com//7.2.3.1//EN
TZID:Europe/London
X-WR-TIMEZONE:Europe/London
BEGIN:VEVENT
UID:35@corpulentcapers.com
DTSTART;TZID=Europe/London:20121127T000000
DTEND;TZID=Europe/London:20121127T000000
DTSTAMP:20121125T151707Z
URL:https://www.corpulentcapers.com/events/an-evening-of-whisky-and-wonder
 -at-the-conway/
SUMMARY:An Evening of Whisky and Wonder at The Conway - The Conway - 27 Nov
  12 00:00
DESCRIPTION:An Evening of Whisky and Wonder at The Conway\nMichelin Pub Gui
 de entrant The Conway in Pontcanna will be hosting an evening dedicated to
  whisky and gastronomy on Tuesday November 27th 2012.\n\nThe evening\, wh
 ich will be led by a Gordon &amp\; MacPhail whisky expert\, will match a s
 ix course tasting menu created by The Conway’s kitchen team\, with a spe
 cially selected selection of six whiskies designed to enhance each and eve
 ry dish.\n\nThe menu includes classic Celtic favourites including Rarebit 
 and Haggis\, combined with slightly more exotic fare including spiced soy 
 chicken thigh with shallot puree and Jamaican ginger cake served with vani
 lla ice cream.\n\nThe six whiskies on offer include Island Malt 2000 which
  has a sweet nose combining orange peel and vanilla\, whilst the twelve ye
 ar old Campbeltown Malt has an oaky palate with hints of figs and nuts. Th
 e Highland Malt bottled in 1993 has a vibrant nose combining shades of cut
  hay\, mixed fruit\, menthol and caramel\, which develops into a flavour o
 f sherried fruit and winter spice with herbal notes on the palate.\n\nSerg
 e Luceau\, Director for Knife &amp\; Fork Food who own The Conway\, commen
 ted: “We know from our regulars that whisky has a large and loyal follow
 ing\, especially quality brands like Gordon &amp\; MacPhail\, who are lege
 nds in the whisky world.\n\n“It seemed like a wonderful idea to host an 
 evening dedicated to the amber nectar and combine it with some incredible 
 dishes that would really bring out the best in the different whiskies we w
 ill be serving our guests. What better way to spend a cold November evenin
 g?”\n\nGordon &amp\; Macphail who are regarded as the world’s leading 
 malt whisky specialists\, are located in the north-east of Scotland in the
  heart of the world famous whisky producing region of Speyside. Gordon &am
 p\; MacPhail is an independent family owned and managed firm which has be
 en bottling Single Malt Whiskies for over 116 years.\n\nWhisky tasting eve
 ning: six course\, food matched\, whisky tasting menu £35. Call 029 2022
  4373 for more information and to book tickets.\nwww.knifeandforkfood.co.u
 k
CATEGORIES:Drink,Food
LOCATION:The Conway\, Pontcanna\, Cardiff\, CF11 9NW\, Wales
GEO:51.4883801;-3.203933099999972
X-APPLE-STRUCTURED-LOCATION;VALUE=URI;X-ADDRESS=Pontcanna\, Cardiff\, CF11 
 9NW\, Wales;X-APPLE-RADIUS=100;X-TITLE=The Conway:geo:51.4883801,-3.203933
 099999972
END:VEVENT
BEGIN:VTIMEZONE
TZID:Europe/London
X-LIC-LOCATION:Europe/London
BEGIN:STANDARD
DTSTART:20121028T010000
TZOFFSETFROM:+0100
TZOFFSETTO:+0000
TZNAME:GMT
END:STANDARD
END:VTIMEZONE
END:VCALENDAR