BEGIN:VCALENDAR
VERSION:2.0
PRODID:-//wp-events-plugin.com//7.2.3.1//EN
TZID:Europe/London
X-WR-TIMEZONE:Europe/London
BEGIN:VEVENT
UID:51@corpulentcapers.com
DTSTART;TZID=Europe/London:20130927T100000
DTEND;TZID=Europe/London:20130928T170000
DTSTAMP:20130320T192442Z
URL:https://www.corpulentcapers.com/events/bridgend-feastival/
SUMMARY:BRIDGEND FEASTIVAL - Bridgend Feastival - 27 Sep 13 10:00
DESCRIPTION:The visitor to Feastival can expect amazing foodie entertainmen
 t and unusual food experiences.\n\nMore details here.
CATEGORIES:Food
LOCATION:Bridgend Feastival\, Wyndham Street\, Bridgend\, RCT\, CF31 1EF\, 
 Wales
GEO:51.50717657062579;-3.5785122627014516
X-APPLE-STRUCTURED-LOCATION;VALUE=URI;X-ADDRESS=Wyndham Street\, Bridgend\,
  RCT\, CF31 1EF\, Wales;X-APPLE-RADIUS=100;X-TITLE=Bridgend Feastival:geo:
 51.50717657062579,-3.5785122627014516
END:VEVENT
BEGIN:VTIMEZONE
TZID:Europe/London
X-LIC-LOCATION:Europe/London
BEGIN:DAYLIGHT
DTSTART:20130331T020000
TZOFFSETFROM:+0000
TZOFFSETTO:+0100
TZNAME:BST
END:DAYLIGHT
END:VTIMEZONE
END:VCALENDAR