BEGIN:VCALENDAR
VERSION:2.0
PRODID:-//wp-events-plugin.com//6.4.6.1//EN
TZID:Europe/London
X-WR-TIMEZONE:Europe/London
BEGIN:VEVENT
UID:10@corpulentcapers.com
DTSTART;TZID=Europe/London:20120623T000000
DTEND;TZID=Europe/London:20120701T000000
DTSTAMP:20120204T202416Z
URL:https://www.corpulentcapers.com/events/pembrokeshire-fish-week/
SUMMARY:Pembrokeshire Fish Week - Tourist Information Centre - 23 Jun 12 00
 :00
DESCRIPTION:&nbsp\;\nFor a small county\, it&#39\;s a whopper of a festival
 .&nbsp\;&nbsp\;\nPembrokeshire Fish Week 2012 is packed with more than 250
  events between 23rd June and 1st July.&nbsp\;\n&nbsp\;It celebrates the W
 elsh county&#39\;s first-class seafood\, spectacular coastline\, wonderful
  clean beaches\, and fascinating maritime heritage.&nbsp\;&nbsp\;\n\n&nbsp
 \;\n&nbsp\;\nLove the outdoors? Come and enjoy guided island and beach wal
 ks\, eco-fishing adventures\, coasteering\, and much more.\nTake an evenin
 g boat trip finishing at a riverside pub\, or learn how to forage for deli
 cious edibles along the Pembrokeshire coast.\nIf you&#39\;re bringing the 
 family\, there&#39\;s loads of fun in store. Explore crystal-clear rockpoo
 ls and find out what lives on our beaches in seashore safaris.\nLearn to w
 indsurf\, take part in seaside sports\, or make some wonderful creations i
 n beach-inspired art and craft workshops.&nbsp\;&nbsp\;&nbsp\;&nbsp\;\n\nA
 nd if you love fish and shellfish\, then you&#39\;re in for a treat! &nbsp
 \;\n&nbsp\;Tuck into the freshest local produce at the county&#39\;s resta
 urants and pubs all week long -from local lobster to fresh crab salads and
  seafood extravaganzas\, or good old beer-battered fish with hand-cut Pemb
 rokeshire chips. &nbsp\;\n&nbsp\;There are also lots of opportunities for 
 cooks to learn how to get the best out of their fish and shellfish\, with 
 masterclasses\, workshops and speciality cookery classes.\n&nbsp\;\n\n&nbs
 p\;The festival is also a feast for anglers of all ages and level of abili
 ty.\nCome and pit your wits against the best in sea angling and coarse fis
 hing championships.\nThere are also family coaching days and learn-to-fish
  sessions if you fancy getting hooked on one of Britain&#39\;s favourite s
 ports. &nbsp\;&nbsp\;&nbsp\;\n&nbsp\;&nbsp\;&nbsp\;&nbsp\;\nPembrokeshire 
 Fish Week is organised by Pembrokeshire County Council.\nThe festival won 
 the Gold Award in the Food Tourism Destination category in the True Taste 
 Food and Drink Awards 2009/ 2010\, and Pembrokeshire Tourism&#39\;s &#39\;
 Premier Event Award&#39\; 2009 / 2010.&nbsp\;\nIt is part funded through t
 he Rural Development Plan for Wales 2007-2013\, which is financed by the E
 U and the Welsh Assembly Government.&nbsp\;&nbsp\;\n&nbsp\;\n&nbsp\;&nbsp\
 ;&nbsp\;&nbsp\;&nbsp\;\n&nbsp\;\n\n	&nbsp\;\n\n\n&nbsp\;\n
CATEGORIES:Food
LOCATION:Tourist Information Centre\, Commons Rd\, Pembroke\, Pembrokeshire
 \, SA71 4EA\, West Wales\, Wales
GEO:51.6739323;-4.915836000000013
X-APPLE-STRUCTURED-LOCATION;VALUE=URI;X-ADDRESS=Commons Rd\, Pembroke\, Pem
 brokeshire\, SA71 4EA\, West Wales\, Wales;X-APPLE-RADIUS=100;X-TITLE=Tour
 ist Information Centre:geo:51.6739323,-4.915836000000013
END:VEVENT
BEGIN:VTIMEZONE
TZID:Europe/London
X-LIC-LOCATION:Europe/London
BEGIN:DAYLIGHT
DTSTART:20120325T020000
TZOFFSETFROM:+0000
TZOFFSETTO:+0100
TZNAME:BST
END:DAYLIGHT
END:VTIMEZONE
END:VCALENDAR